
    BEGIN:VCALENDAR
VERSION:2.0
PRODID:-// - ECPv6.15.20//NONSGML v1.0//EN
CALSCALE:GREGORIAN
METHOD:PUBLISH
X-ORIGINAL-URL:https://stephanimcdow.com
X-WR-CALDESC:Events for 
REFRESH-INTERVAL;VALUE=DURATION:PT1H
X-Robots-Tag:noindex
X-PUBLISHED-TTL:PT1H
BEGIN:VTIMEZONE
TZID:America/New_York
BEGIN:DAYLIGHT
TZOFFSETFROM:-0500
TZOFFSETTO:-0400
TZNAME:EDT
DTSTART:20210314T070000
END:DAYLIGHT
BEGIN:STANDARD
TZOFFSETFROM:-0400
TZOFFSETTO:-0500
TZNAME:EST
DTSTART:20211107T060000
END:STANDARD
BEGIN:DAYLIGHT
TZOFFSETFROM:-0500
TZOFFSETTO:-0400
TZNAME:EDT
DTSTART:20220313T070000
END:DAYLIGHT
BEGIN:STANDARD
TZOFFSETFROM:-0400
TZOFFSETTO:-0500
TZNAME:EST
DTSTART:20221106T060000
END:STANDARD
BEGIN:DAYLIGHT
TZOFFSETFROM:-0500
TZOFFSETTO:-0400
TZNAME:EDT
DTSTART:20230312T070000
END:DAYLIGHT
BEGIN:STANDARD
TZOFFSETFROM:-0400
TZOFFSETTO:-0500
TZNAME:EST
DTSTART:20231105T060000
END:STANDARD
BEGIN:DAYLIGHT
TZOFFSETFROM:-0500
TZOFFSETTO:-0400
TZNAME:EDT
DTSTART:20240310T070000
END:DAYLIGHT
BEGIN:STANDARD
TZOFFSETFROM:-0400
TZOFFSETTO:-0500
TZNAME:EST
DTSTART:20241103T060000
END:STANDARD
END:VTIMEZONE
BEGIN:VEVENT
DTSTART;VALUE=DATE:20230415
DTEND;VALUE=DATE:20230416
DTSTAMP:20260423T112649
CREATED:20230409T201810Z
LAST-MODIFIED:20230409T202041Z
UID:4285-1681516800-1681603199@stephanimcdow.com
SUMMARY:Diaspora Cafe: DC Poetry Retreat
DESCRIPTION:Day Eight and the Mariposa Poetry Retreat are pleased to present a capacity-building retreat for DC area poets April 15\, 2023 from 11am to 4pm. Jeffrey Banks and Maritza Rivera\, editors of the poetry anthology Diaspora Café: D.C.\, are faculty directors for the retreat\, joined by keynote E. Ethelbert Miller. \nStephani E. D. McDow is a 2023 Diaspora Cafe Writers Retreat Fellow
URL:https://stephanimcdow.com/event/diaspora-cafe-dc-poetry-retreat/
LOCATION:Martin Luther King Jr. Memorial Library\, 901 G St NW\, Washington\, DC\, 20001\, United States
CATEGORIES:Retreats & Fellowships
ATTACH;FMTTYPE=image/jpeg:https://stephanimcdow.com/wp-content/uploads/2023/04/339655861_532189369094042_414309373562573528_n.jpeg
END:VEVENT
BEGIN:VEVENT
DTSTART;VALUE=DATE:20230308
DTEND;VALUE=DATE:20230312
DTSTAMP:20260423T112649
CREATED:20221023T213931Z
LAST-MODIFIED:20221023T214739Z
UID:4195-1678233600-1678579199@stephanimcdow.com
SUMMARY:2023 AWP Conference & Bookfair
DESCRIPTION:The AWP Conference & Bookfair is the annual destination for writers\, teachers\, students\, editors\, and publishers of contemporary creative writing. It includes thousands of attendees\, hundreds of events and bookfair exhibitors\, and four days of essential literary conversation and celebration. The AWP Conference & Bookfair has always been a place of connection\, reunion\, and joy\, and we are excited to see the writing community come together again in Seattle\, Washington in 2023.
URL:https://stephanimcdow.com/event/2023-awp-conference-bookfair/
LOCATION:DC
CATEGORIES:Conferences
ATTACH;FMTTYPE=image/jpeg:https://stephanimcdow.com/wp-content/uploads/2022/10/2E926875-6A63-4BFD-80D9-3A9E7C1CA3E6_4_5005_c.jpeg
END:VEVENT
BEGIN:VEVENT
DTSTART;TZID=America/New_York:20230211T140000
DTEND;TZID=America/New_York:20230211T160000
DTSTAMP:20260423T112649
CREATED:20221023T212052Z
LAST-MODIFIED:20221023T215529Z
UID:4192-1676124000-1676131200@stephanimcdow.com
SUMMARY:A Diaspora Café: D.C. Reading with Four Poets on the AfroLatinx Experience
DESCRIPTION:  \nQuince Orchard Library and Day Eight have teamed up to present an event with the editors and some contributors to Diaspora Cafe: D.C.\, a new anthology of poetry featuring writing on the AfroLatinx experience\, on Saturday\, February 11\, 2:00 pm at Quince Orchard Library (15831 Quince Orchard Rd\, Gaithersburg\, MD 20878).\nDiaspora Café: D.C. is a collective investigation of survival by writers within a system that deprioritizes their existence. The editors Jeffrey Banks and Maritza Rivera will read alongside two contributors: Sistah Joy and Stephani E. D. McDow.\n\nA review by Angela Maria Spring in the Washington Review of Books says [the collection] “includes a wonderful arrangement of poems by our community’s poets from the African diaspora and touches on topics from celebrating Caribbean beats on DC streets to the struggle of anti-Blackness and racism from both white people and also from within African-American and Afro-Latinx communities.”\n\nIn a review by in Washington City Paper\, Emma Veon writes\, “Diaspora Café: D.C. celebrates and preserves difference\, recognizing the breadth of Afro Latinx people who “embody many shades of a ‘Brown.’” Banks and Rivera assembled 34 poems from 14 writers in this intimate anthology representing the region’s dynamic Afro Latinx culture… The poems are by and about Afro Latinx creatives\, and the collection\, so intimate and honest\, generously welcomes unfamiliar readers to a fictive cafe bustling with life.” \nSee less
URL:https://stephanimcdow.com/event/a-diaspora-cafe-d-c-reading-with-four-poets-on-the-afrolatinx-experience/
LOCATION:Quince Orchard Library\, 15831 Quince Orchard Road\, Gaithersburg\, MD\, 20878\, United States
CATEGORIES:Readings
ATTACH;FMTTYPE=image/jpeg:https://stephanimcdow.com/wp-content/uploads/2022/10/C2437536-C8CF-4B68-A7E4-8CF9A7EC1C65.jpeg
END:VEVENT
BEGIN:VEVENT
DTSTART;TZID=America/New_York:20221113T140000
DTEND;TZID=America/New_York:20221113T160000
DTSTAMP:20260423T112649
CREATED:20221023T211600Z
LAST-MODIFIED:20221023T215402Z
UID:4188-1668348000-1668355200@stephanimcdow.com
SUMMARY:A Diaspora Café: D.C. Reading with Eight Poets on the AfroLatinx Experience
DESCRIPTION:  \nThe Writer’s Center and Day Eight have teamed up to present an event with the editors and some contributors to Diaspora Cafe: D.C.\, a new anthology of poetry featuring writing on the AfroLatinx experience\, on Sunday\, November 13\, 2:00 pm at The Writer’s Center (4508 Walsh Street\, Bethesda\, MD 20815).\nDiaspora Café: D.C. is a collective investigation of survival by writers within a system that deprioritizes their existence. The editors Jeffrey Banks and Maritza Rivera will read alongside six contributors: Hermond Palmer\, Sistah Joy\, Stephani E. D. McDow\, Nick Leininger\, and Allison Whittenberg.\n\nA review by Angela Maria Spring in the Washington Review of Books says [the collection] “includes a wonderful arrangement of poems by our community’s poets from the African diaspora and touches on topics from celebrating Caribbean beats on DC streets to the struggle of anti-Blackness and racism from both white people and also from within African-American and Afro-Latinx communities.”\n\nIn a review by in Washington City Paper\, Emma Veon writes\, “Diaspora Café: D.C. celebrates and preserves difference\, recognizing the breadth of Afro Latinx people who “embody many shades of a ‘Brown.’” Banks and Rivera assembled 34 poems from 14 writers in this intimate anthology representing the region’s dynamic Afro Latinx culture… The poems are by and about Afro Latinx creatives\, and the collection\, so intimate and honest\, generously welcomes unfamiliar readers to a fictive cafe bustling with life.”
URL:https://stephanimcdow.com/event/a-diaspora-cafe-d-c-reading-with-eight-poets-on-the-afrolatinx-experience/
LOCATION:The Writer’s Center\, 4508 Walsh Street\, Bethesda\, 20815
CATEGORIES:Readings
ATTACH;FMTTYPE=image/jpeg:https://stephanimcdow.com/wp-content/uploads/2022/10/18C7D7BE-B56D-48B7-9172-ED8B9C0536A2.jpeg
END:VEVENT
BEGIN:VEVENT
DTSTART;TZID=America/New_York:20221105T140000
DTEND;TZID=America/New_York:20221105T160000
DTSTAMP:20260423T112649
CREATED:20221023T211629Z
LAST-MODIFIED:20221023T215319Z
UID:4185-1667656800-1667664000@stephanimcdow.com
SUMMARY:A Diaspora Café: D.C. Reading with Six Poets on the AfroLatinx Experience
DESCRIPTION:  \nRhizomeDC and Day Eight have teamed up to present an event with the editors and contributors to Diaspora Cafe: D.C.\, a new anthology of poetry featuring writing on the AfroLatinx experience. Diaspora Café: D.C. is a collective investigation of survival by writers within a system that deprioritizes their existence.\nThe editors Jeffrey Banks and Maritza Rivera will read alongside four contributors: Christine Williams\, Sistah Joy\, Stephani E. D. McDow\, and Nick Leininger.\n\nA review by Angela Maria Spring in the Washington Review of Books says [the collection] “includes a wonderful arrangement of poems by our community’s poets from the African diaspora and touches on topics from celebrating Caribbean beats on DC streets to the struggle of anti-Blackness and racism from both white people and also from within African-American and Afro-Latinx communities.”\nIn a review by in Washington City Paper\, Emma Veon writes\, “Diaspora Café: D.C. celebrates and preserves difference\, recognizing the breadth of Afro Latinx people who “embody many shades of a ‘Brown.’” Banks and Rivera assembled 34 poems from 14 writers in this intimate anthology representing the region’s dynamic Afro Latinx culture… The poems are by and about Afro Latinx creatives\, and the collection\, so intimate and honest\, generously welcomes unfamiliar readers to a fictive cafe bustling with life.”
URL:https://stephanimcdow.com/event/a-diaspora-cafe-d-c-reading-with-six-poets-on-the-afrolatinx-experience/
LOCATION:RhizomeDC\, 6950 Maple St NW\, Washington\, DC\, 20012\, United States
CATEGORIES:Readings
ATTACH;FMTTYPE=image/jpeg:https://stephanimcdow.com/wp-content/uploads/2022/10/014B9BBE-6532-4742-A0C9-731657B21A15.jpeg
END:VEVENT
END:VCALENDAR