
    BEGIN:VCALENDAR
VERSION:2.0
PRODID:-// - ECPv6.15.20//NONSGML v1.0//EN
CALSCALE:GREGORIAN
METHOD:PUBLISH
X-ORIGINAL-URL:https://stephanimcdow.com
X-WR-CALDESC:Events for 
REFRESH-INTERVAL;VALUE=DURATION:PT1H
X-Robots-Tag:noindex
X-PUBLISHED-TTL:PT1H
BEGIN:VTIMEZONE
TZID:America/New_York
BEGIN:DAYLIGHT
TZOFFSETFROM:-0500
TZOFFSETTO:-0400
TZNAME:EDT
DTSTART:20220313T070000
END:DAYLIGHT
BEGIN:STANDARD
TZOFFSETFROM:-0400
TZOFFSETTO:-0500
TZNAME:EST
DTSTART:20221106T060000
END:STANDARD
BEGIN:DAYLIGHT
TZOFFSETFROM:-0500
TZOFFSETTO:-0400
TZNAME:EDT
DTSTART:20230312T070000
END:DAYLIGHT
BEGIN:STANDARD
TZOFFSETFROM:-0400
TZOFFSETTO:-0500
TZNAME:EST
DTSTART:20231105T060000
END:STANDARD
BEGIN:DAYLIGHT
TZOFFSETFROM:-0500
TZOFFSETTO:-0400
TZNAME:EDT
DTSTART:20240310T070000
END:DAYLIGHT
BEGIN:STANDARD
TZOFFSETFROM:-0400
TZOFFSETTO:-0500
TZNAME:EST
DTSTART:20241103T060000
END:STANDARD
END:VTIMEZONE
BEGIN:VEVENT
DTSTART;VALUE=DATE:20230308
DTEND;VALUE=DATE:20230312
DTSTAMP:20260423T142954
CREATED:20221023T213931Z
LAST-MODIFIED:20221023T214739Z
UID:4195-1678233600-1678579199@stephanimcdow.com
SUMMARY:2023 AWP Conference & Bookfair
DESCRIPTION:The AWP Conference & Bookfair is the annual destination for writers\, teachers\, students\, editors\, and publishers of contemporary creative writing. It includes thousands of attendees\, hundreds of events and bookfair exhibitors\, and four days of essential literary conversation and celebration. The AWP Conference & Bookfair has always been a place of connection\, reunion\, and joy\, and we are excited to see the writing community come together again in Seattle\, Washington in 2023.
URL:https://stephanimcdow.com/event/2023-awp-conference-bookfair/
CATEGORIES:Conferences
ATTACH;FMTTYPE=image/jpeg:https://stephanimcdow.com/wp-content/uploads/2022/10/2E926875-6A63-4BFD-80D9-3A9E7C1CA3E6_4_5005_c.jpeg
END:VEVENT
END:VCALENDAR